BEGIN:VCALENDAR
VERSION:2.0
PRODID:-//Shire Hunters - ECPv4.8.2//NONSGML v1.0//EN
CALSCALE:GREGORIAN
METHOD:PUBLISH
X-WR-CALNAME:Shire Hunters
X-ORIGINAL-URL:https://www.shirehunters.com.au
X-WR-CALDESC:Events for Shire Hunters
BEGIN:VEVENT
DTSTART;TZID=UTC+0:20190815T190000
DTEND;TZID=UTC+0:20190815T210000
DTSTAMP:20200302T034145
CREATED:20190311T094004Z
LAST-MODIFIED:20190311T094050Z
UID:377-1565895600-1565902800@www.shirehunters.com.au
SUMMARY:2019 Annual General Meeting
DESCRIPTION:AGM is in place of the regular social meeting. \n
URL:https://www.shirehunters.com.au/event/2019-annual-general-meeting/
END:VEVENT
END:VCALENDAR