BEGIN:VCALENDAR
VERSION:2.0
PRODID:-//Shire Hunters - ECPv4.8.2//NONSGML v1.0//EN
CALSCALE:GREGORIAN
METHOD:PUBLISH
X-WR-CALNAME:Shire Hunters
X-ORIGINAL-URL:https://www.shirehunters.com.au
X-WR-CALDESC:Events for Shire Hunters
BEGIN:VEVENT
DTSTART;TZID=UTC+0:20180419T190000
DTEND;TZID=UTC+0:20180419T210000
DTSTAMP:20200302T044417
CREATED:20180418T083442Z
LAST-MODIFIED:20180418T083442Z
UID:315-1524164400-1524171600@www.shirehunters.com.au
SUMMARY:April Social Night
DESCRIPTION:
URL:https://www.shirehunters.com.au/event/april-social-night/
LOCATION:Engadine Bowling Club\, 61 Cambrai Ave\, Engadine
END:VEVENT
END:VCALENDAR