BEGIN:VCALENDAR
VERSION:2.0
PRODID:-//Shire Hunters - ECPv4.8.2//NONSGML v1.0//EN
CALSCALE:GREGORIAN
METHOD:PUBLISH
X-WR-CALNAME:Shire Hunters
X-ORIGINAL-URL:https://www.shirehunters.com.au
X-WR-CALDESC:Events for Shire Hunters
BEGIN:VEVENT
DTSTART;TZID=UTC+0:20191219T190000
DTEND;TZID=UTC+0:20191219T210000
DTSTAMP:20200302T034638
CREATED:20191029T104151Z
LAST-MODIFIED:20191029T104151Z
UID:405-1576782000-1576789200@www.shirehunters.com.au
SUMMARY:December Social Meet
DESCRIPTION:
URL:https://www.shirehunters.com.au/event/december-social-meet/
LOCATION:Engadine Bowling Club\, 61 Cambrai Ave\, Engadine
END:VEVENT
END:VCALENDAR