BEGIN:VCALENDAR
VERSION:2.0
PRODID:-//Shire Hunters - ECPv4.8.2//NONSGML v1.0//EN
CALSCALE:GREGORIAN
METHOD:PUBLISH
X-WR-CALNAME:Shire Hunters
X-ORIGINAL-URL:https://www.shirehunters.com.au
X-WR-CALDESC:Events for Shire Hunters
BEGIN:VEVENT
DTSTART;TZID=UTC+0:20181109T170000
DTEND;TZID=UTC+0:20181111T170000
DTSTAMP:20200302T042652
CREATED:20180912T225601Z
LAST-MODIFIED:20180912T225601Z
UID:344-1541782800-1541955600@www.shirehunters.com.au
SUMMARY:Fishing Weekend
DESCRIPTION:Details are to be confirmed. Please put aside the date if you are interested. \nFriday night till Sunday. November 9 till 11. \n
URL:https://www.shirehunters.com.au/event/fishing-weekend/
END:VEVENT
END:VCALENDAR