BEGIN:VCALENDAR
VERSION:2.0
PRODID:-//Shire Hunters - ECPv4.8.2//NONSGML v1.0//EN
CALSCALE:GREGORIAN
METHOD:PUBLISH
X-WR-CALNAME:Shire Hunters
X-ORIGINAL-URL:https://www.shirehunters.com.au
X-WR-CALDESC:Events for Shire Hunters
BEGIN:VEVENT
DTSTART;TZID=UTC+0:20180719T190000
DTEND;TZID=UTC+0:20180719T210000
DTSTAMP:20200302T043943
CREATED:20180419T080018Z
LAST-MODIFIED:20180419T080018Z
UID:322-1532026800-1532034000@www.shirehunters.com.au
SUMMARY:July Social Night
DESCRIPTION:
URL:https://www.shirehunters.com.au/event/july-social-night/
LOCATION:Engadine Bowling Club\, 61 Cambrai Ave\, Engadine
END:VEVENT
END:VCALENDAR