BEGIN:VCALENDAR
VERSION:2.0
PRODID:-//Shire Hunters - ECPv4.8.2//NONSGML v1.0//EN
CALSCALE:GREGORIAN
METHOD:PUBLISH
X-WR-CALNAME:Shire Hunters
X-ORIGINAL-URL:https://www.shirehunters.com.au
X-WR-CALDESC:Events for Shire Hunters
BEGIN:VEVENT
DTSTART;TZID=UTC+0:20190301T080000
DTEND;TZID=UTC+0:20190303T170000
DTSTAMP:20200302T041138
CREATED:20181129T024632Z
LAST-MODIFIED:20181129T024632Z
UID:353-1551427200-1551632400@www.shirehunters.com.au
SUMMARY:March Club Hunt
DESCRIPTION:Please put aside the dates. \n
URL:https://www.shirehunters.com.au/event/march-club-hunt/
LOCATION:Nundle State Forest
END:VEVENT
END:VCALENDAR