BEGIN:VCALENDAR
VERSION:2.0
PRODID:-//Shire Hunters - ECPv4.8.2//NONSGML v1.0//EN
CALSCALE:GREGORIAN
METHOD:PUBLISH
X-WR-CALNAME:Shire Hunters
X-ORIGINAL-URL:https://www.shirehunters.com.au
X-WR-CALDESC:Events for Shire Hunters
BEGIN:VEVENT
DTSTART;TZID=UTC+0:20190321T190000
DTEND;TZID=UTC+0:20190321T210000
DTSTAMP:20200302T042454
CREATED:20190117T013233Z
LAST-MODIFIED:20190117T013233Z
UID:365-1553194800-1553202000@www.shirehunters.com.au
SUMMARY:March Social Night
DESCRIPTION:
URL:https://www.shirehunters.com.au/event/march-social-night/
END:VEVENT
END:VCALENDAR