BEGIN:VCALENDAR
VERSION:2.0
PRODID:-//Shire Hunters - ECPv4.8.2//NONSGML v1.0//EN
CALSCALE:GREGORIAN
METHOD:PUBLISH
X-WR-CALNAME:Shire Hunters
X-ORIGINAL-URL:https://www.shirehunters.com.au
X-WR-CALDESC:Events for Shire Hunters
BEGIN:VEVENT
DTSTART;TZID=UTC+0:20190516T190000
DTEND;TZID=UTC+0:20190516T210000
DTSTAMP:20200302T034354
CREATED:20190311T093809Z
LAST-MODIFIED:20190311T093835Z
UID:374-1558033200-1558040400@www.shirehunters.com.au
SUMMARY:May Social Night
DESCRIPTION:
URL:https://www.shirehunters.com.au/event/may-club-social/
LOCATION:Engadine Bowling Club\, 61 Cambrai Ave\, Engadine
END:VEVENT
END:VCALENDAR