BEGIN:VCALENDAR
VERSION:2.0
PRODID:-//Shire Hunters - ECPv4.8.2//NONSGML v1.0//EN
CALSCALE:GREGORIAN
METHOD:PUBLISH
X-WR-CALNAME:Shire Hunters
X-ORIGINAL-URL:https://www.shirehunters.com.au
X-WR-CALDESC:Events for Shire Hunters
BEGIN:VEVENT
DTSTART;VALUE=DATE:20181005
DTEND;VALUE=DATE:20181010
DTSTAMP:20200302T043954
CREATED:20171129T225730Z
LAST-MODIFIED:20171129T225730Z
UID:295-1538697600-1539129599@www.shirehunters.com.au
SUMMARY:October Club Hunt
DESCRIPTION:Please see forum link \nBondi State Forest \nhttp://shirehunters.invisionzone.com/index.php?/topic/569-october-club-hunt-bondi-sf/ \n
URL:https://www.shirehunters.com.au/event/october-club-hunt/
LOCATION:Bondi State Forest
END:VEVENT
END:VCALENDAR