BEGIN:VCALENDAR
VERSION:2.0
PRODID:-//Shire Hunters - ECPv4.8.2//NONSGML v1.0//EN
CALSCALE:GREGORIAN
METHOD:PUBLISH
X-WR-CALNAME:Shire Hunters
X-ORIGINAL-URL:https://www.shirehunters.com.au
X-WR-CALDESC:Events for Shire Hunters
BEGIN:VEVENT
DTSTART;TZID=UTC+0:20191206T180000
DTEND;TZID=UTC+0:20191206T233000
DTSTAMP:20200302T034625
CREATED:20190815T092341Z
LAST-MODIFIED:20190815T092341Z
UID:381-1575655200-1575675000@www.shirehunters.com.au
SUMMARY:Xmas Social Drink - Gymea Pub
DESCRIPTION:Friday 6th December \n6pm Onwards \nGymea Hotel \n
URL:https://www.shirehunters.com.au/event/xmas-social-drink-gymea-pub/
END:VEVENT
END:VCALENDAR