BEGIN:VCALENDAR
VERSION:2.0
PRODID:-//Shire Hunters - ECPv4.8.2//NONSGML v1.0//EN
CALSCALE:GREGORIAN
METHOD:PUBLISH
X-WR-CALNAME:Shire Hunters
X-ORIGINAL-URL:https://www.shirehunters.com.au
X-WR-CALDESC:Events for Shire Hunters
BEGIN:VEVENT
DTSTART;TZID=UTC+0:20200116T190000
DTEND;TZID=UTC+0:20200116T210000
DTSTAMP:20200302T033635
CREATED:20191029T104241Z
LAST-MODIFIED:20191029T104241Z
UID:407-1579201200-1579208400@www.shirehunters.com.au
SUMMARY:January Social Meet
DESCRIPTION:
URL:https://www.shirehunters.com.au/event/january-social-meet/
LOCATION:Engadine Bowling Club\, 61 Cambrai Ave\, Engadine
END:VEVENT
END:VCALENDAR