BEGIN:VCALENDAR
VERSION:2.0
PRODID:-//Shire Hunters - ECPv4.8.2//NONSGML v1.0//EN
CALSCALE:GREGORIAN
METHOD:PUBLISH
X-WR-CALNAME:Shire Hunters
X-ORIGINAL-URL:https://www.shirehunters.com.au
X-WR-CALDESC:Events for Shire Hunters
BEGIN:VEVENT
DTSTART;TZID=UTC+0:20200118T090000
DTEND;TZID=UTC+0:20200118T140000
DTSTAMP:20200302T033702
CREATED:20191105T210116Z
LAST-MODIFIED:20191105T210315Z
UID:414-1579338000-1579356000@www.shirehunters.com.au
SUMMARY:Reloading Day
DESCRIPTION:Butchering demo day. \n
URL:https://www.shirehunters.com.au/event/reloading-day/
LOCATION:Sutherland Shire Small Bore Rifle Club\, 1 Newland Place\, Yarrawarrah
END:VEVENT
END:VCALENDAR