BEGIN:VCALENDAR
VERSION:2.0
PRODID:-//Shire Hunters - ECPv4.8.2//NONSGML v1.0//EN
CALSCALE:GREGORIAN
METHOD:PUBLISH
X-WR-CALNAME:Shire Hunters
X-ORIGINAL-URL:https://www.shirehunters.com.au
X-WR-CALDESC:Events for Shire Hunters
BEGIN:VEVENT
DTSTART;TZID=UTC+0:20200613T080000
DTEND;TZID=UTC+0:20200613T140000
DTSTAMP:20200302T040600
CREATED:20191105T210237Z
LAST-MODIFIED:20191105T210237Z
UID:416-1592035200-1592056800@www.shirehunters.com.au
SUMMARY:Butchering Day
DESCRIPTION:Butchering demo day. \n
URL:https://www.shirehunters.com.au/event/butchering-day-2/
LOCATION:Sutherland Shire Small Bore Rifle Club\, 1 Newland Place\, Yarrawarrah
END:VEVENT
END:VCALENDAR