BEGIN:VCALENDAR
VERSION:2.0
PRODID:-//Shire Hunters - ECPv4.8.2//NONSGML v1.0//EN
CALSCALE:GREGORIAN
METHOD:PUBLISH
X-WR-CALNAME:Shire Hunters
X-ORIGINAL-URL:https://www.shirehunters.com.au
X-WR-CALDESC:Events for Shire Hunters
BEGIN:VEVENT
DTSTART;TZID=UTC+0:20200709T080000
DTEND;TZID=UTC+0:20200712T170000
DTSTAMP:20200302T042004
CREATED:20191029T103504Z
LAST-MODIFIED:20191029T103929Z
UID:395-1594281600-1594573200@www.shirehunters.com.au
SUMMARY:July 2020 Club Hunt - Canobolas SF
DESCRIPTION:Canobolas State Forest Club Hunt \n
URL:https://www.shirehunters.com.au/event/july-2020-club-hunt-canobolas-sf/
LOCATION:Canobolas State Forest
END:VEVENT
END:VCALENDAR