BEGIN:VCALENDAR
VERSION:2.0
PRODID:-//Shire Hunters - ECPv4.8.2//NONSGML v1.0//EN
CALSCALE:GREGORIAN
METHOD:PUBLISH
X-WR-CALNAME:Shire Hunters
X-ORIGINAL-URL:https://www.shirehunters.com.au
X-WR-CALDESC:Events for Shire Hunters
BEGIN:VEVENT
DTSTART;TZID=UTC+0:20200820T193000
DTEND;TZID=UTC+0:20200820T213000
DTSTAMP:20200302T043535
CREATED:20191029T103753Z
LAST-MODIFIED:20191029T103753Z
UID:399-1597951800-1597959000@www.shirehunters.com.au
SUMMARY:2020 Annual General Meeting
DESCRIPTION:AGM for financial year 2019-2020. \n
URL:https://www.shirehunters.com.au/event/2020-annual-general-meeting/
LOCATION:Engadine Bowling Club\, 61 Cambrai Ave\, Engadine
END:VEVENT
END:VCALENDAR